BEGIN:VCALENDAR
VERSION:2.0
PRODID:-//http://rdawheatbelt.com.au///NONSGML kigkonsult.se iCalcreator 2.10.15//
METHOD:PUBLISH
BEGIN:VEVENT
UID:20200227T090617AWST-5360gMJXcz@http://rdawheatbelt.com.au/
DTSTAMP:20200227T010617Z
DESCRIPTION:Recreation Grounds Contact Merredin Community&nbsp\; Resource C
 entre 9041 1041 http://www.merredinshow.com.au/ http://rdawheatbelt.com.au
 /news-events/calendar-of-events/event/2601-merredin-show
DTSTART;VALUE=DATE:20200321
LOCATION:Merredin (Merredin WA\, Australia)
SUMMARY:MERREDIN - Show
URL:http://rdawheatbelt.com.au/news-events/calendar-of-events/event/2601-me
 rredin-show
END:VEVENT
BEGIN:VEVENT
UID:20200227T090617AWST-5363US1UzF@http://rdawheatbelt.com.au/
DTSTAMP:20200227T010617Z
DESCRIPTION:\n\n\nWA's largest regional agricultural show. Over 350 commerc
 ial exhibitors\; over 1000 sheep\, cattle\, horses and chooks incompetitio
 n\; working sheep dogs\; hourly fashion parades\; art\, photography and cr
 afts in competition\; education options\; side shows\; free entertainment\
 ; lifestyle displays\; woolhandling and shearing competitions\; markets\; 
 current and future rural industry products and services\; travel products\
 ; smoke free environment\; indoor and outdoor displays\; 20\,000 visitors\
 ; massive local community effort\; family friendly.&nbsp\;&nbsp\; www.wool
 orama.com.au\n\n\n http://rdawheatbelt.com.au/news-events/calendar-of-even
 ts/event/2604-wagin-woolorama
DTSTART:20200305T160000Z
DTEND:20200307T053041Z
LOCATION:Wagin (Wagin WA\, Australia)
SUMMARY:WAGIN - Woolorama
URL:http://rdawheatbelt.com.au/news-events/calendar-of-events/event/2604-wa
 gin-woolorama
END:VEVENT
BEGIN:VEVENT
UID:20200227T090617AWST-5368mVG3ch@http://rdawheatbelt.com.au/
DTSTAMP:20200227T010617Z
DESCRIPTION:Long Course and Short Course. Discount for Early Bird Registrat
 ions .\n&nbsp\;No late entries permitted.\n&nbsp\;For more information and
  course maps please email triathlon@gingin.wa.gov.au. http://rdawheatbelt.
 com.au/news-events/calendar-of-events/event/2765-gingin-triathlon
DTSTART;VALUE=DATE:20200322
LOCATION:Gingin (Gingin WA\, Australia)
SUMMARY:GINGIN - Triathlon
URL:http://rdawheatbelt.com.au/news-events/calendar-of-events/event/2765-gi
 ngin-triathlon
END:VEVENT
BEGIN:VEVENT
UID:20200227T090617AWST-5373VwVIsJ@http://rdawheatbelt.com.au/
DTSTAMP:20200227T010617Z
DESCRIPTION:18/03/2017 - Location Beverley Swimming Pool\, Wright St\, Beve
 rleyCoordinator - Sam Fricker&nbsp\;Email beverley@crc.net.au Phone 08 964
 6 1600Group / Organisation Responsible Beverley CRC\nhttps://www.facebook.
 com/events/beverley-swimming-pool/beverley-triathlon-2020/434771943733191/
  http://rdawheatbelt.com.au/news-events/calendar-of-events/event/2851-beve
 rley-triathlon
DTSTART;VALUE=DATE:20200229
LOCATION:Beverley (Beverley WA 6304\, Australia)
SUMMARY:BEVERLEY - Triathlon
URL:http://rdawheatbelt.com.au/news-events/calendar-of-events/event/2851-be
 verley-triathlon
END:VEVENT
BEGIN:VEVENT
UID:20200227T090617AWST-53788o7Rtf@http://rdawheatbelt.com.au/
DTSTAMP:20200227T010617Z
DESCRIPTION: http://rdawheatbelt.com.au/news-events/calendar-of-events/even
 t/2905-wheatbelt-events-are-advertised-on-this-site-at-no-cost-stall-holde
 rs-please-contact-the-event-organisers-directly-as-rda-wheatbelt-is-not-in
 volved-with-hosting-these-events
DTSTART:20190403T160000Z
DTEND:20201130T180000Z
LOCATION:Wheatbelt (Wheatbelt WA\, Australia)
SUMMARY:WHEATBELT EVENTS are advertised on this site at no cost. Stall hold
 ers please contact the event organisers directly as RDA Wheatbelt is not i
 nvolved with hosting these events. 
URL:http://rdawheatbelt.com.au/news-events/calendar-of-events/event/2905-wh
 eatbelt-events-are-advertised-on-this-site-at-no-cost-stall-holders-please
 -contact-the-event-organisers-directly-as-rda-wheatbelt-is-not-involved-wi
 th-hosting-these-events
END:VEVENT
BEGIN:VEVENT
UID:20200227T090617AWST-53848mzpmL@http://rdawheatbelt.com.au/
DTSTAMP:20200227T010617Z
DESCRIPTION:Kondinin. 6th MarchLive Music Acoustic Duo\, 3 Course Meal usin
 g local produce from the Community Garden and surrounding District and the
  Vintage Car Bar. Contact cso@kondinin.wa.gov.auhttps://www.australiasgold
 enoutback.com/event/gourmet-garden-long-table-dinner&nbsp\; http://rdawhea
 tbelt.com.au/news-events/calendar-of-events/event/2940-kondinin-gourmet-in
 -the-garden
DTSTART;VALUE=DATE:20200306
LOCATION:Kondinin (Kondinin WA 6367\, Australia)
SUMMARY:KONDININ - Gourmet in the Garden
URL:http://rdawheatbelt.com.au/news-events/calendar-of-events/event/2940-ko
 ndinin-gourmet-in-the-garden
END:VEVENT
BEGIN:VEVENT
UID:20200227T090617AWST-5390eSpMcE@http://rdawheatbelt.com.au/
DTSTAMP:20200227T010617Z
DESCRIPTION:&nbsp\;\nThe Toodyay Music Fest is a free family event for all 
 to enjoy on March 28 2020.\nBring a blanket or chair and come enjoy the ma
 ny genres of music live on stage.\nWith two stages in Duidgee &amp\; Stirl
 ing Parks along with St Stephens Church\, there will be something for ever
 yone.\nBuskers will line the streets for those enjoying the many cafes and
  shops in Toodyay.\nA variety of food and drink will be available in Duidg
 ee &amp\; Stirling Parks.\nCome along and enjoy what promises to be an eve
 ntful and fun day.\nThis will be a smoke free event.\nPlease don't forget 
 to 'slip\, slop\, slap'.\nhttp://toodyaymusicfest.com/\n&nbsp\; http://rda
 wheatbelt.com.au/news-events/calendar-of-events/event/2946-toodyay-music-f
 est
DTSTART;VALUE=DATE:20200328
LOCATION:Toodyay (Toodyay WA\, Australia)
SUMMARY:TOODYAY - Music Fest
URL:http://rdawheatbelt.com.au/news-events/calendar-of-events/event/2946-to
 odyay-music-fest
END:VEVENT
BEGIN:VEVENT
UID:20200227T090617AWST-5396TSTwsH@http://rdawheatbelt.com.au/
DTSTAMP:20200227T010617Z
DESCRIPTION:&nbsp\;\nAstronomy Tag-Along-Tour | 20th – 26th February 2020Th
 ere will be stars all the way on award-winning tour operator\, Global Gyps
 ies’\, new astronomy tag-along-tour!This tour is a first of its kind for W
 estern Australia and will be the beginning of more stargazing and astronom
 y tourism offerings to come.February’s Astronomy Tag-Along-Tour will take 
 in astronomical sights from Gingin to Cervantes\, Jurien Bay and Moora. Al
 ong the way you’ll meet and hear from astronomy guides\, view through tele
 scopes and discover night landscape photography from local astrophotograph
 ers.Stargazing will be a highlight in the evenings with plenty of activiti
 es and outings during the days.\nBookingshttps://astrotourismwa.com.au/ast
 ronomy-tag-along-tour/For more details and a copy of the tour flyer contac
 t Global Gypsies on 08 9341 6727 or admin@globalgypsies.com.au.\n&nbsp\;\n
 &nbsp\; http://rdawheatbelt.com.au/news-events/calendar-of-events/event/29
 48-wheatbelt-global-gypsies-astronomy-tag-along-tour
DTSTART:20200220T061758Z
DTEND:20200226T081758Z
LOCATION:Wheatbelt (Wheatbelt WA\, Australia)
SUMMARY:WHEATBELT - Global Gypsies astronomy tag-along-tour
URL:http://rdawheatbelt.com.au/news-events/calendar-of-events/event/2948-wh
 eatbelt-global-gypsies-astronomy-tag-along-tour
END:VEVENT
BEGIN:VEVENT
UID:20200227T090617AWST-5402hBFZij@http://rdawheatbelt.com.au/
DTSTAMP:20200227T010617Z
DESCRIPTION:&nbsp\;\nStar Light\, Star Bright | 28th FebruaryFind out about
  Astrotourism\, what it means for the Shire of West Arthur and discover wh
 y Darkan is a great place for stargazing. After an introductory talk\, hea
 d out to the telescopes for a laser guided tour of the night sky and see t
 he Moon\, Venus\, Orion Nebula\, Magellanic Clouds and more!View some West
  Arthur astrophotography with a special exhibition from local photographer
 s. Darkan is on the Astrotourism WA map!DetailsWhen: 6:30pm – 9pm\, Friday
  28th February 2020Where: Darkan Football Oval\, off Moodiarrup/Darkan Rd 
 South\, DarkanWhat to bring: Bring your own picnic basket\, chairs\, torch
 es\, warm clothes\, comfortable footwear\, fly net and insect repellent.Bo
 okings: Free community event. Please RSVP on the Facebook event page.\nMor
 e Details:&nbsp\; https://astrotourismwa.com.au/darkan-stargazing-event/\n
 &nbsp\; http://rdawheatbelt.com.au/news-events/calendar-of-events/event/29
 49-darkan-star-light-star-bright-stargazing
DTSTART;VALUE=DATE:20200228
LOCATION:Darkan (Coalfields Road\, Darkan Western Australia )
SUMMARY:DARKAN - Star Light Star Bright Stargazing
URL:http://rdawheatbelt.com.au/news-events/calendar-of-events/event/2949-da
 rkan-star-light-star-bright-stargazing
END:VEVENT
BEGIN:VEVENT
UID:20200227T090617AWST-5407uD4uev@http://rdawheatbelt.com.au/
DTSTAMP:20200227T010617Z
DESCRIPTION:&nbsp\;\nRDA Wheatbelt Inc and the Wheatbelt Development Commis
 sion are pleased to announce the first of a series of Innovation Conversat
 ions to be held in the Eastern Wheatbelt region.\nThe “Driving for Change’
  forum is to be held in Bruce Rock and will focus on exploring opportuniti
 es in leading transport innovations\, autonomous vehicles\, technology and
  infrastructure as well as celebrating innovation in the Wheatbelt.\nWho s
 hould attend – Anyone interested in the future of transport technology and
  innovation. Students\, business operators\, innovators\, LGAs and Dep’t r
 epresentatives.\n&nbsp\;\nFeaturing Guest speakers who will then form a pa
 nel for discussion and questions\, before an opportunity to tour the highl
 y successful Bruce Rock Engineering workshops.\nRegister for this FREE eve
 nt via https://www.eventbrite.com.au/e/88793085509 or by contacting the RD
 A Wheatbelt admin office on admin@rdawheatbelt.com.au . Register by COB We
 dnesday 4th March 2020.\nOptions include – •&nbsp\;Participation in the fo
 rum and panel discussions•&nbsp\;Participation in the forum\, panel discus
 sions and lunch•&nbsp\;Participation in the forum\, panel discussions\, lu
 nch and the tour of Bruce Rock Engineering\nPlease advise of any dietary r
 equirements\n&nbsp\;\n&nbsp\;Venue – Bruce Rock Hall\, 58 Johnson St.&nb
 sp\;Date – Wednesday 18th March 2020.&nbsp\;Time – 10.00 morning tea and 
 registration for a 10.25 start&nbsp\; &nbsp\;&nbsp\; Forum ends at 1.00 pm
 . Tour 1.30 to 2.45 (Bus provided from the hall)\n&nbsp\; http://rdawheatb
 elt.com.au/news-events/calendar-of-events/event/2954-bruce-rock-innovation
 -conversations
DTSTART;VALUE=DATE:20200318
LOCATION:Bruce Rock (Bruce Rock WA 6418\, Australia)
SUMMARY:BRUCE ROCK - Innovation Conversations
URL:http://rdawheatbelt.com.au/news-events/calendar-of-events/event/2954-br
 uce-rock-innovation-conversations
END:VEVENT
END:VCALENDAR
